BEGIN:VCALENDAR
VERSION:2.0
PRODID:-//Studio.12 Munich - ECPv6.15.20//NONSGML v1.0//EN
CALSCALE:GREGORIAN
METHOD:PUBLISH
X-ORIGINAL-URL:https://studio12-munich.com
X-WR-CALDESC:Veranstaltungen für Studio.12 Munich
REFRESH-INTERVAL;VALUE=DURATION:PT1H
X-Robots-Tag:noindex
X-PUBLISHED-TTL:PT1H
BEGIN:VTIMEZONE
TZID:UTC
BEGIN:STANDARD
TZOFFSETFROM:+0000
TZOFFSETTO:+0000
TZNAME:UTC
DTSTART:20240101T000000
END:STANDARD
END:VTIMEZONE
BEGIN:VEVENT
DTSTART;VALUE=DATE:20251109
DTEND;VALUE=DATE:20251130
DTSTAMP:20260421T084410
CREATED:20251102T051722Z
LAST-MODIFIED:20251104T110311Z
UID:3137-1762646400-1764460799@studio12-munich.com
SUMMARY:AIDA Reise Karibik
DESCRIPTION:
URL:https://studio12-munich.com/event/aida-reise/
ATTACH;FMTTYPE=image/jpeg:https://studio12-munich.com/wp-content/uploads/2025/11/Fotos-Quer-Fuer-VA-2.jpg
END:VEVENT
BEGIN:VEVENT
DTSTART;TZID=UTC:20251112T200000
DTEND;TZID=UTC:20251112T213000
DTSTAMP:20260421T084410
CREATED:20250929T064153Z
LAST-MODIFIED:20251111T205139Z
UID:2800-1762977600-1762983000@studio12-munich.com
SUMMARY:Health Event
DESCRIPTION:Beim kostenlosen Health Event erfährst du\, wie körperliche Beschwerden\, Erschöpfung oder Unverträglichkeiten miteinander zusammenhängen und welche Rolle Stoffwechsel\, Hormone und Entzündungen dabei spielen. Anja und Christina zeigen dir praxisnah\, wie du die Ursachen deiner Symptome erkennst und deine Selbstheilung gezielt aktivieren kannst.
URL:https://studio12-munich.com/event/health-event/
LOCATION:Anja Riesenberg\, Steinsdorfstraße 10\, München\, Bayern\, 80538\, Germany
ATTACH;FMTTYPE=image/jpeg:https://studio12-munich.com/wp-content/uploads/2025/09/20.jpg
ORGANIZER;CN="Studio.12":MAILTO:info@studio12-munich.com
END:VEVENT
BEGIN:VEVENT
DTSTART;VALUE=DATE:20251114
DTEND;VALUE=DATE:20251117
DTSTAMP:20260421T084410
CREATED:20251007T042634Z
LAST-MODIFIED:20251101T185747Z
UID:2851-1763078400-1763337599@studio12-munich.com
SUMMARY:Weekend Escape Seehotel Überfahrt
DESCRIPTION:Genieße ein unvergessliches Wochenende voller Bewegung\, Entspannung und Inspiration!Erlebe mit Anja Pilates\, Yoga\, unser Signature Workout Barre Floorwork sowie ein vitalisierendes Aqua Workout. \nEin Highlight: der Metabolic Health Talk mit praxisnahen Longevity-Impulsen für deinen gesunden Lebensstil. Tausche dich mit Teilnehmer:innen aus und lass dich von Energie und Motivation tragen. \nDas exklusive Althoff Seehotel Überfahrt direkt am Tegernsee verbindet stilvolle Eleganz mit traumhafter Natur. Großzügige Zimmer mit Seeblick\, kulinarische Erlebnisse in fünf Restaurants sowie ein 3.000 m² Spa machen dieses 5-Sterne-Resort zum perfekten Ort für dein Wohlbefinden. \nProgrammdetails \nFreitag \, 14. November \n16.00 Uhr 17.00 Uhr Welcome Barre Floorwork 45 min \nGrounding Yoga Flow 45 min \n19.00 Uhr Get Together Aperitif \n19.30 Uhr Gemeinsames Dinner* \nSamstag\, 15. November \n7.15 Uhr Aqua Workout 30 min \n8.00 Uhr Good Morning Yoga 45 min \n9.15 Uhr Gemeinsames Frühstück \n11.00 Uhr Metabolic Health & Longevity Talk 75 min \n17.00 Uhr Pilates meets Barre Floorwork 45 min \n18.00 Uhr Evening Yin Yoga 30 min \n19.30 Uhr Gemeinsames Dinner* \nSonntag\, 16. November \n7.15 Uhr Sunday Morning Yoga 45 min \n8.15 Uhr Good Morning Pilates 45 min \n9.15 Uhr Gemeinsames Frühstück \n3 Gang-Abendessen im Restaurant Il Barcaiolo und \nEgerner Bucht \nProgrammänderungen vorbehalten \nBuchung Hotel \nPreis pro Person und Nacht im DZ 245€ \nPreis pro Person und Nacht im EZ 375€ \nfür die Zimmerkategorie Elegant Nature Alpenblick \nIm Preis enthalten ist das exquisite Frühstücksbuffet \nund das 3-Gang Abendessen. \nBuchung der Zimmer direkt über das Hotel mit dem \nCode Weekend Escape \ninfo@seehotel-ueberfahrt.com \nBuchung Retreatprogramm \nBuchung des Weekend Escape Programms  \nüber Studio.12 zum Preis von 350€ pro Person \nBuchung des Weekend Escape Programms als \nTagesgast über Studio.12 zum Preis von 429€ pro \nPerson inklusive Frühstücksbuffet\, 3 Gang-Abendessen \nund Spa Nutzung \nLimitierte Teilnehmerzahl \ninfo@studio12-munich.com
URL:https://studio12-munich.com/event/weekend-escape-seehotel-ueberfahrt/
ATTACH;FMTTYPE=image/jpeg:https://studio12-munich.com/wp-content/uploads/2025/10/12.jpg
ORGANIZER;CN="Studio.12":MAILTO:info@studio12-munich.com
END:VEVENT
END:VCALENDAR